BEGIN:VCALENDAR
VERSION:2.0
PRODID:-//Eventin//Event Calendar//EN
CALSCALE:GREGORIAN
METHOD:PUBLISH
BEGIN:VEVENT
UID:9b2f1b9ac17d47f1c54ad1b38ffb8898@lanuevacubierta.com
SUMMARY:JESSI URIBE & PAOLA JARA MADRID
DESCRIPTION:Jessi Uribe vs Paola Jara en Madrid \nDespecho a Dos Voces\nEu
 ropa Tour – 01 de mayo de 2026\nLa espera terminó! Dos de las voces más
  grandes de la música popular llegan a España con un concierto único e i
 nolvidable. Jessi Uribe y Paola Jara se presentan en Madrid con su gira “
 Despecho a Dos Voces – Europa Tour”\, un show cargado de emociones\, é
 xitos y todo el poder de la música popular colombiana.\n📍 Lugar: La N
 ueva Cubierta – Espacio de Emociones\nC/ del Maestro 4\, 28914 Leganés 
 – Madrid\n📅 Fecha: 1 de mayo de 2026\n🎟️ Entradas disponibles:
 \nUn espectáculo exclusivo en el que Paola Jara y Jessi Uribe compartirán
  escenario interpretando sus más grandes himnos de despecho\, en un mano a
  mano que promete una noche inolvidable.\n👉 Compra ya tus entradas y as
 egura tu lugar en este evento histórico.\n📞 Info y Reservas: 635 155 
 274\n \n 
LOCATION:La Cubierta
DTSTAMP:20260424T114516Z
DTSTART:20260501T200000Z
DTEND:20260502T040000Z
END:VEVENT
END:VCALENDAR
