BEGIN:VCALENDAR
VERSION:2.0
PRODID:-//Eventin//Event Calendar//EN
CALSCALE:GREGORIAN
METHOD:PUBLISH
BEGIN:VEVENT
UID:b553cc0e12cf112dc0dad180b3901030@lanuevacubierta.com
SUMMARY:Bronco el Gran Baile Tour
DESCRIPTION:@grupobronco EL GRAN BAILE TOUR\, LLEGA A EUROPA ESTE 2026 y Es
 paña será la gran sede🐎🎶💖😌\, 📆2 DE MAYO Madrid 📍 LA NUE
 VA CUBIERTA (LEGANÉS) 
LOCATION:La Cubierta
DTSTAMP:20260420T164843Z
DTSTART:20260502T170000Z
DTEND:20260502T040000Z
END:VEVENT
END:VCALENDAR
