BEGIN:VCALENDAR
VERSION:2.0
PRODID:-//Eventin//Event Calendar//EN
CALSCALE:GREGORIAN
METHOD:PUBLISH
BEGIN:VEVENT
UID:4957ea415f258bf70ac9aab26ccd1a53@lanuevacubierta.com
SUMMARY:SENTIMIENTO VALLENATO FEST MADRID
DESCRIPTION:🚨 ¡ENTRADAS YA A LA VENTA – MADRID 2026! 🇪🇸🔥El f
 estival que hizo vibrar Europa vuelve más grande\, más potente y más sen
 timental que nunca.🪗 SENTIMIENTO VALLENATO FEST VOL. 2📍 Madrid📅 30
  de abril de 2026🔥 Víspera de festivo – Día del Trabajador🏟️ La
  Cubierta de LeganésUn cartel histórico que une generaciones y hace canta
 r a todo pulmón:⭐ @alexmangaoficial⭐ @nelsonvelasquezoficial⭐ @danie
 lcalderonn @danielcalderonylosgigantes⭐ @pipebuenoUna noche para vivir el
  desamor\, la pasión y el sentimiento que solo el vallenato puede desperta
 r.Madrid marca el inicio… y solo 6 ciudades serán las elegidas.🎟️ C
 ompra ya tus entradas online aquí:👉 https://web.fourvenues.com/es/senti
 miento-vallenato-fest📲 Más información:675 728 032 · 634 472 141 · 6
 91 840 282Produce: @kenkoeventos @bichoconciertosll⚠️ No lo pienses dem
 asiado…El sentimiento se vive en vivo.#SentimientoVallenatoFest #SVF2 #Ma
 drid2026 #LaCubierta #VallenatoEuropa KenkoEventos AlexManga NelsonVelasque
 z DanielCalderon PipeBueno
LOCATION:La Cubierta
DTSTAMP:20260420T141704Z
DTSTART:20260430T190000Z
DTEND:20260701T215000Z
END:VEVENT
END:VCALENDAR
