BEGIN:VCALENDAR
VERSION:2.0
PRODID:-//Eventin//Event Calendar//EN
CALSCALE:GREGORIAN
METHOD:PUBLISH
BEGIN:VEVENT
UID:de590cc19f2e9109373d35d1697a1872@lanuevacubierta.com
SUMMARY:BINOMIO DE ORO MADRID 2025
DESCRIPTION:Leganés (Madrid)\, el día 9 de Octubre\n¡EL BINOMIO DE ORO D
 E AMÉRICA: 50 AÑOS DE LEYENDA! La «Universidad del Vallenato» celebra 
 sus Bodas de Oro por todo lo alto y aterriza en nuestro escenario como pa
 rte del exclusivo Euro Tour 2026. Acompaña al maestro Israel Romero en un
 a noche histórica para conmemorar medio siglo de éxitos que han definido 
 el género a nivel mundial.\nPara esta ocasión irrepetible\, contaremos co
 n un cartel de invitados especiales de lujo que marcaron época:\n\n\nDUB
 ÁN BAYONA | AMÍN MARTINEZ | GABI GARCÍA | ALEJANDRO PALACIO. Ven 
 a vivir una antología del vallenato y canta a todo pulmón clásicos como
  Olvídala\, Osito Dormilón y Niña Bonita junto a sus voces original
 es. ¡Una gira de aniversario que solo ocurre una vez en la vida!\n\n\nos e
 speramos en la plaza de toros\, La Cubierta de Leganés\, Madrid.\n \nLug
 ar y Hora\nPuertas : 22:00h \, Inicio: 23:30h  hasta: 4:30h\nC. del Maestr
 o\, 4\, 28914 Leganés\, Madrid\n \nInformación sobre las zonas y Entrada
 s\nLas entradas DIAMANTE\, ORO y PLATA corresponden a asientos de algu
 na mesa en la zona mas próxima al escenario.\nLas entradas VIP de pie se
  encuentra detrás de las mesas\,  las entradas generales son las gradas
  o zonas más alejadas al escenario.\nSe puede reservar una mesa entera o p
 or asientos en mesa compartida.\n \nDisponemos de los siguientes tipos de 
 Entradas:\n \nEntrada DIAMANTE\nCorresponde a un asiento en alguna mes
 a de la fila 1 y fila 2. \nPrecio asiento individual : 180€ .\nEnt
 rada ORO\nCorresponde a un asiento en alguna mesa de la fila 3.\nPrec
 io asiento individual : 130€ .\nCorresponde a un asiento en alguna m
 esa de la fila 4.\nPrecio asiento individual : 110€ .\n \nEntrada VI
 P de pie\nZona en pista de pie\, abajo en la plaza. No se reservan zonas 
 específicas en este espacio.\nPrecio entrada individual : 55€ .\nEntra
 da GENERAL de pie\nZona gradas de la plaza de toros. No se reservan zonas
  específicas en este espacio.\nPrecio entrada individual : 30€ .
LOCATION:La Cubierta
DTSTAMP:20260424T102131Z
DTSTART:20261009T200000Z
DTEND:20261010T023000Z
END:VEVENT
END:VCALENDAR
